BEGIN:VCALENDAR
VERSION:2.0
PRODID:-//ChamberMaster//Event Calendar 2.0//EN
METHOD:PUBLISH
X-PUBLISHED-TTL:P3D
REFRESH-INTERVAL:P3D
CALSCALE:GREGORIAN
BEGIN:VEVENT
DTSTART:20171026T010000Z
DTEND:20171025T190000Z
X-MICROSOFT-CDO-ALLDAYEVENT:FALSE
SUMMARY:2017 Career & Technical Expo
DESCRIPTION:The Bedford Area Chamber of Commerce hosts first annual Career & Technical Expo. The Career & Technical Expo provides a balanced exhibition of the industries which make up our region. It is our belief that creating career ready graduates\, we are paving the way for our youth to contribute to the economic sustainability of our region. \n\n\n\nThe goal of the Expo is to educate students about the variety of career opportunities in the region and the skills needed to acquire those jobs. It is a great opportunity for businesses to connect with the future workforce to encourage them now to acquire the skills they will need to be successful in the industry later. Working with middle school students nearing high school provides you an opportunity to help sustain future economic stability while giving student the chance to explore career choices available in our region.\n\n\n\nThis event will be attended by the more than 700 seventh grade students from Bedford County Public Schools.
X-ALT-DESC;FMTTYPE=text/html:The Bedford Area Chamber of Commerce hosts first annual Career &amp\; Technical Expo. The Career &amp\; Technical Expo provides a balanced exhibition of the industries which make up our region. It is our belief that creating career ready graduates\, we are paving the way for our youth to contribute to the economic sustainability of our region.&nbsp\;<br />\n<br />\nThe goal of the Expo is to educate students about the variety of career opportunities in the region and the skills needed to acquire&nbsp\;those jobs. It is a great opportunity for businesses to connect with the future workforce to encourage them now to acquire the skills they will need to be successful in the industry later. Working with middle school students nearing high school provides you an opportunity to help sustain future economic stability while giving student the chance to explore career choices available in our region.<br />\n<br />\nThis event will be attended by the more than 700 seventh grade students from Bedford County Public Schools.&nbsp\;&nbsp\;
LOCATION:Bedford Science & Technology Center 600 Edmund Street Bedford\, VA
UID:e.1335.8568
SEQUENCE:3
DTSTAMP:20260420T040615Z
URL:https://business.bedfordareachamber.com/events/details/2017-career-technical-expo-8568
END:VEVENT

END:VCALENDAR
