BEGIN:VCALENDAR
VERSION:2.0
PRODID:-//ChamberMaster//Event Calendar 2.0//EN
METHOD:PUBLISH
X-PUBLISHED-TTL:P3D
REFRESH-INTERVAL:P3D
CALSCALE:GREGORIAN
BEGIN:VEVENT
DTSTART:20171125T150000Z
DTEND:20171125T190000Z
X-MICROSOFT-CDO-ALLDAYEVENT:FALSE
SUMMARY:2017 Christmas Market
DESCRIPTION:For the third year\, the Bedford Area Chamber of Commerce's Christmas Market is a great opportunity to explore local businesses this Holiday Season. Join us for fun\, food\, and shopping with over 50 vendors!\n\n\n\nThis year's Christmas Market will be hosted on Small Business Saturday to encourage the community to shop small and local for the holidays.  It will be located in the Market Square in Centertown Bedford.\n\n\n\nThis is a family friendly event that will feature kids' crafts\, Selfies with Santa\, carriage rides*\, caricatures * and more!  (*some additional fees may apply)  \n\n\n\nAt this time we are no longer accepting any additional vendors as our space is full.  Please come out and shop and support local artisans and businesses in Centertown Bedford!\n\n\n\nCurrent Listing of Participating Artisans & Business Vendors:\n\n\n\nAlpaca by Jaca\n\nApril Gilfillen for Uvietstore\n\nArtisan Phillip Hall\n\nAssured Comfort \n\nBath Fitter\n\nBattery Creek Forge\n\nBig Otter Mill Foundation\n\nBrenda's Wreaths & Crafts\n\nBringing Home My Baby\n\nCode Fresh\, Centra\n\nCreate Bedford\n\nEast of the Wood Design\n\nForest Splinters Threads LLC\n\nGates Flag & Banner South\, LLC\n\nGlass Rooster\n\nGoose Creek Studio \n\nImagination Station Studio LLC\n\nJES Foundation Repair \n\nJoe's Crafty Things\n\nJohn Boy Woodcarving\n\nJust Made Scents\n\nLeather & Grace\n\nLouise's Sparkle\n\nMary Kay-Sherry Tyree\n\nMeredith Lloyd Vintage Flannels\n\nMermaid Kisses\n\nNadine Dunton Crafts\n\nNature's Jewelry\n\nNerium International  - Bobbie Williams  \n\nOld Jail Hill Artspace\n\nPilot Mountain Made\n\nPure Bliss Jewels\n\nRebel Grace Designs\n\nSam's Club - Hot Chocolate Bar\n\nSassy Smiles-Lipsense\n\nScentsy\n\nSecond Story Art & Furnishings\n\nSML Civitan Club\n\nT & E Catering/Food Truck\n\nTerry Heiligenstadt\, Pampered Chef\n\nThirty-One By Pam Hahn\n\nTreasure Hunters LLC\n\nTupperware\n\nTye River Sign Co.\n\nQ99 Diner - Wheeler Broadcasting\n\nWhistle Creek Treats\n\nWhite Wave Bracelets\n\nWRVL - The Journey Radio
X-ALT-DESC;FMTTYPE=text/html:For the third&nbsp\;year\, the Bedford Area Chamber of Commerce&#39\;s Christmas Market is a great opportunity to explore local businesses this Holiday Season. Join us for fun\, food\, and shopping with over 50&nbsp\;vendors!<br />\n<br />\nThis year&#39\;s Christmas Market will be hosted on Small Business Saturday to encourage the community to shop small and local for the holidays.&nbsp\; It will be located in the Market Square in Centertown&nbsp\;Bedford.<br />\n<br />\nThis is a family friendly event that will feature kids&#39\; crafts\, Selfies with Santa\, carriage rides*\, caricatures * and more!&nbsp\; <span style="font-size:10px\;"><em>(*some additional fees may apply)&nbsp\;&nbsp\;</em></span><br />\n<br />\n<strong>At this time we are no longer accepting any additional vendors as our space is full.</strong>&nbsp\; Please come out and shop and support local artisans and businesses in Centertown Bedford!<br />\n<br />\n<strong>Current Listing of Participating Artisans &amp\; Business Vendors:</strong><br />\n<br />\nAlpaca by Jaca<br />\nApril Gilfillen for Uvietstore<br />\nArtisan Phillip Hall<br />\nAssured Comfort&nbsp\;<br />\nBath Fitter<br />\nBattery Creek Forge<br />\nBig Otter Mill Foundation<br />\nBrenda&#39\;s Wreaths &amp\; Crafts<br />\nBringing Home My Baby<br />\nCode Fresh\, Centra<br />\nCreate Bedford<br />\nEast of the Wood Design<br />\nForest Splinters Threads LLC<br />\nGates Flag &amp\; Banner South\, LLC<br />\nGlass Rooster<br />\nGoose Creek Studio&nbsp\;<br />\nImagination Station Studio LLC<br />\nJES Foundation Repair&nbsp\;<br />\nJoe&#39\;s Crafty Things<br />\nJohn Boy Woodcarving<br />\nJust Made Scents<br />\nLeather &amp\; Grace<br />\nLouise&#39\;s Sparkle<br />\nMary Kay-Sherry Tyree<br />\nMeredith Lloyd Vintage Flannels<br />\nMermaid Kisses<br />\nNadine Dunton Crafts<br />\nNature&#39\;s Jewelry<br />\nNerium International&nbsp\; - Bobbie Williams&nbsp\;&nbsp\;<br />\nOld Jail Hill Artspace<br />\nPilot Mountain Made<br />\nPure Bliss Jewels<br />\nRebel Grace Designs<br />\nSam&#39\;s Club - Hot Chocolate Bar<br />\nSassy Smiles-Lipsense<br />\nScentsy<br />\nSecond Story Art &amp\; Furnishings<br />\nSML Civitan Club<br />\nT &amp\; E Catering/Food Truck<br />\nTerry Heiligenstadt\, Pampered Chef<br />\nThirty-One By Pam Hahn<br />\nTreasure Hunters LLC<br />\nTupperware<br />\nTye River Sign Co.<br />\nQ99 Diner - Wheeler Broadcasting<br />\nWhistle Creek Treats<br />\nWhite Wave Bracelets<br />\nWRVL - The Journey Radio<br />\n<br />\n<br />\n<br />\n<br />\n&nbsp\;
LOCATION:Market Square\, Centertown\, Bedford\, VA This will be a tented\, outdoor event.
UID:e.1335.8564
SEQUENCE:3
DTSTAMP:20260419T225707Z
URL:https://business.bedfordareachamber.com/events/details/2017-christmas-market-8564
END:VEVENT

END:VCALENDAR
