BEGIN:VCALENDAR
VERSION:2.0
PRODID:-//ChamberMaster//Event Calendar 2.0//EN
METHOD:PUBLISH
X-PUBLISHED-TTL:P3D
REFRESH-INTERVAL:P3D
CALSCALE:GREGORIAN
BEGIN:VEVENT
DTSTART:20171017T210000Z
DTEND:20171018T000000Z
X-MICROSOFT-CDO-ALLDAYEVENT:FALSE
SUMMARY:2017 Jefferson's Assembly
DESCRIPTION:Save the date!\n\n\n\nJoin us for the Jefferson's Assembly\, a political\, social gathering that brings regional business\, local government\, economic development\, transportation and workforce leaders for a collaborative vision that advances major economic and transportation projects that impact the region and Commonwealth.\n\n\n\nThe cost to attend is $25 per person and includes dinner and beverages.  Advance registration is required by visiting the online registration HERE!
X-ALT-DESC;FMTTYPE=text/html:Save the date!<br />\n<br />\nJoin us for the Jefferson&#39\;s Assembly\, a political\, social gathering that brings regional business\, local government\, economic development\, transportation and workforce leaders for a collaborative vision that advances major economic and transportation projects that impact the region and Commonwealth.<br />\n<br />\nThe cost to attend is $25 per person and includes dinner and beverages. &nbsp\;Advance registration is required by visiting the online registration <strong><a href="https://www.eventbrite.com/e/jeffersons-assembly-october-17-tickets-37433590878?utm-medium=discovery&amp\;utm-campaign=social&amp\;utm-content=attendeeshare&amp\;aff=escb&amp\;utm-source=cp&amp\;utm-term=listing">HERE!</a></strong>
LOCATION:The Bedford Columns 812 East Main Street Bedford\, VA 24523
UID:e.1335.17703
SEQUENCE:3
DTSTAMP:20260421T225213Z
URL:https://business.bedfordareachamber.com/events/details/2017-jefferson-s-assembly-17703
END:VEVENT

END:VCALENDAR
