BEGIN:VCALENDAR
VERSION:2.0
PRODID:-//ChamberMaster//Event Calendar 2.0//EN
METHOD:PUBLISH
X-PUBLISHED-TTL:P3D
REFRESH-INTERVAL:P3D
CALSCALE:GREGORIAN
BEGIN:VEVENT
DTSTART:20171016T150000Z
DTEND:20171016T200000Z
X-MICROSOFT-CDO-ALLDAYEVENT:FALSE
SUMMARY:2017 Job Fair - FALL
DESCRIPTION:Bedford Area Chamber Hosts Job Fair - FALL!\n\n\n\nThe Bedford Area Chamber of Commerce will be hosting their FALL Job Fair on October 16\, 2017 from 11 AM to 4 PM at Central Virginia Community College\, 3506 Wards Road\, Lynchburg.   \n\n\n\nThis event will be open to the public\, featuring businesses in our area that are actively hiring and offering workshops throughout the day for job seekers.  \n\n\n\nPlease see participating employers below : (updated 10/12/17)\n\n\n\nAflac\n\nAnderson Construction\, INc\n\nAnderson Counseling Services\n\nAutomated Conveyor Systems\, Inc. \n\nBlue Ridge Regional Jail Authority\n\nCAER/SOVA Innovation Center\n\nCentra Bedford Memorial Hospital\n\nCentra Health Inc.\n\nCentral Virginia Community College  \n\nCreative Family Solutions/ResCare\n\nDoTerra Essential Oils\n\nElwood Staffing\n\nEmpire Bakery Commissary\, LLC\n\nEnglish Meadows Elks Home Campus\n\nFastenal Company\n\nFirst Dominion Home Health Care\n\nForest Super Kicks\n\nFoster Fuels\, Inc.\n\nGenworth Financial\n\nGoodwill Industries of the Valleys\n\nHampton Police Division\n\nHome Instead Senior Care\n\nHome Recovery - HomeAide\n\nHorizon Behavioral Health\n\nKeller Williams - The Bedford Team\n\nKindred at Home Healthcare\n\nMiller-Motte Technical College\n\nPeople Ready\n\nPrimerica Financial Services\n\nQuality Archery Designs\n\nRescare/Blue Ridge Residential Services\n\nRoanoke City Sheriff's Office\n\nSleep Number\n\nStar City Communications\n\nSTARTEK\n\nTeam Nurse\n\nTSG - Technical Services Group\n\nU. S. Navy\n\nValtim Marketing Services\n\nVarney\, Inc\n\nVDOT/Lynchburg District\n\nVirginia Army National Guard\n\nWexco Corporation\n\nWooldridge Heating Air Electrical \n\nWSET-TV\n\n\n\n\n\nPlease contact the Chamber offices for more information or to register your business as a participant at 540-586-9401 Ext. 201.
X-ALT-DESC;FMTTYPE=text/html:<span style="font-size:14px\;"><span style="font-family: arial\, sans-serif"><strong>Bedford Area Chamber Hosts&nbsp\;Job Fair - FALL!</strong></span></span><br />\n<br />\nThe Bedford Area Chamber of Commerce will be hosting their&nbsp\;FALL Job Fair on October 16\, 2017 from 11 AM to 4 PM at Central Virginia Community College\, 3506 Wards Road\, Lynchburg. &nbsp\;&nbsp\;<br />\n<br />\nThis event will be open to the public\, featuring businesses in our area that are actively hiring and offering workshops throughout the day for job seekers. &nbsp\;<br />\n<br />\n<span style="color:#008080\;"><strong><span style="font-size:14px\;">Please see participating employers below : (updated 10/12/17)</span></strong></span><br />\n<br />\n<strong><span style="color:#008080\;">Aflac<br />\nAnderson Construction\, INc<br />\nAnderson Counseling Services<br />\nAutomated Conveyor Systems\, Inc.&nbsp\;<br />\nBlue Ridge Regional Jail Authority<br />\nCAER/SOVA Innovation Center<br />\nCentra Bedford Memorial Hospital<br />\nCentra Health Inc.<br />\nCentral Virginia Community College&nbsp\;&nbsp\;<br />\nCreative Family Solutions/ResCare<br />\nDoTerra Essential Oils<br />\nElwood Staffing<br />\nEmpire Bakery Commissary\, LLC<br />\nEnglish Meadows Elks Home Campus<br />\nFastenal Company<br />\nFirst Dominion Home Health Care<br />\nForest Super Kicks<br />\nFoster Fuels\, Inc.<br />\nGenworth Financial<br />\nGoodwill Industries of the Valleys<br />\nHampton Police Division<br />\nHome Instead Senior Care<br />\nHome Recovery - HomeAide<br />\nHorizon Behavioral Health<br />\nKeller Williams - The Bedford Team<br />\nKindred at Home Healthcare<br />\nMiller-Motte Technical College<br />\nPeople Ready<br />\nPrimerica Financial Services<br />\nQuality Archery Designs</span></strong><br />\n<strong><span style="color:#008080\;">Rescare/Blue Ridge Residential Services<br />\nRoanoke City Sheriff&#39\;s Office<br />\nSleep Number<br />\nStar City Communications<br />\nSTARTEK<br />\nTeam Nurse<br />\nTSG - Technical Services Group<br />\nU. S. Navy<br />\nValtim Marketing Services<br />\nVarney\, Inc<br />\nVDOT/Lynchburg District<br />\nVirginia Army National Guard<br />\nWexco Corporation<br />\nWooldridge Heating Air Electrical&nbsp\;<br />\nWSET-TV</span></strong><br />\n<br />\n<br />\n<span style="font-size: 12pt"><span style="font-family: arial\, sans-serif"><span style="font-size: 12px"><span style="font-size:14px\;">Please contact the Chamber offices for more information or to register your business as a participant at <a href="tel:540-586-9401">540-586-9401</a> Ext. 201.</span></span></span></span><br />\n<br />\n&nbsp\;
LOCATION:Central Virginia Community College Main Campus-Lynchburg Merritt Hall 3506 Wards Rd\, Lynchburg\, VA 24502
UID:e.1335.8563
SEQUENCE:3
DTSTAMP:20260420T040506Z
URL:https://business.bedfordareachamber.com/events/details/2017-job-fair-fall-8563
END:VEVENT

END:VCALENDAR
