BEGIN:VCALENDAR
VERSION:2.0
PRODID:-//ChamberMaster//Event Calendar 2.0//EN
METHOD:PUBLISH
X-PUBLISHED-TTL:P3D
REFRESH-INTERVAL:P3D
CALSCALE:GREGORIAN
BEGIN:VEVENT
DTSTART:20170912T120000Z
DTEND:20170912T130000Z
X-MICROSOFT-CDO-ALLDAYEVENT:FALSE
SUMMARY:2017 Networking Before Nine - September
DESCRIPTION:Networking before Nine is the Chamber's monthly Business Before Hours breakfast event that provides a morning networking opportunity before your busy workday begins!  Each event provides time for casual networking before giving each attendee an opportunity to provide fellow guests a "30-second commercial" about his/her business.  \n\n\n\nHosted By Hilton Garden Inn
X-ALT-DESC;FMTTYPE=text/html:<span style="text-align: center\;">Networking before Nine is the Chamber&#39\;s monthly Business Before Hours breakfast event that provides a morning networking opportunity before your busy workday begins!&nbsp\; Each event provides time for casual networking before giving each attendee an opportunity to provide fellow guests a &quot\;30-second commercial&quot\; about his/her business.&nbsp\;&nbsp\;</span><br style="text-align: center\;" />\n<br style="text-align: center\;" />\n<span style="text-align: center\;">Hosted By Hilton Garden Inn</span>
LOCATION:Hilton Garden Inn 4025 Wards Road Lynchburg\, VA 24502
UID:e.1335.8607
SEQUENCE:3
DTSTAMP:20260421T100715Z
URL:https://business.bedfordareachamber.com/events/details/2017-networking-before-nine-september-8607
END:VEVENT

END:VCALENDAR
