BEGIN:VCALENDAR
VERSION:2.0
PRODID:-//ChamberMaster//Event Calendar 2.0//EN
METHOD:PUBLISH
X-PUBLISHED-TTL:P3D
REFRESH-INTERVAL:P3D
CALSCALE:GREGORIAN
BEGIN:VEVENT
DTSTART;VALUE=DATE:20190709
DTEND;VALUE=DATE:20190710
TRANSP:TRANSPARENT
X-MICROSOFT-CDO-ALLDAYEVENT:TRUE
SUMMARY:2019 - Networking Before Nine - July
DESCRIPTION:NO event for July / Hope you are having a safe and enjoyable Summer
X-ALT-DESC;FMTTYPE=text/html:NO event for July / Hope you are having a safe and enjoyable Summer
LOCATION:No Event for July
UID:e.1335.19263
SEQUENCE:3
DTSTAMP:20260424T074113Z
URL:https://business.bedfordareachamber.com/events/details/2019-networking-before-nine-july-19263
END:VEVENT

END:VCALENDAR
