BEGIN:VCALENDAR
VERSION:2.0
PRODID:-//ChamberMaster//Event Calendar 2.0//EN
METHOD:PUBLISH
X-PUBLISHED-TTL:P3D
REFRESH-INTERVAL:P3D
CALSCALE:GREGORIAN
BEGIN:VEVENT
DTSTART:20210225T210000Z
DTEND:20210225T223000Z
X-MICROSOFT-CDO-ALLDAYEVENT:FALSE
SUMMARY:2021 - Business Connect @ 4 - February * Virtual Event *
DESCRIPTION:Join us virtually for a special evening of networking!\n\n\n\nWe will draw a name from those attending for a $50 gift card.\n\n\n\nBusiness Connect @ 4 provides your business with the opportunity to get out and network! Take the time to pause from your busy life and join us from 4pm until 6pm to cultivate your professional relationships.
X-ALT-DESC;FMTTYPE=text/html:Join us virtually for a special evening of networking!<br />\n<br />\nWe will draw a name from those attending for a $50 gift card.<br />\n<br />\nBusiness Connect @ 4 provides your business with the opportunity to get out and network! Take the time to pause from your busy life and join us from 4pm until 6pm&nbsp\;to cultivate your professional relationships.<br />\n<br />\n&nbsp\;
LOCATION:This is a virtual event.
UID:e.1335.19517
SEQUENCE:3
DTSTAMP:20260424T213301Z
URL:https://business.bedfordareachamber.com/events/details/2021-business-connect-4-february-virtual-event-19517
END:VEVENT

END:VCALENDAR
