BEGIN:VCALENDAR
VERSION:2.0
PRODID:-//ChamberMaster//Event Calendar 2.0//EN
METHOD:PUBLISH
X-PUBLISHED-TTL:P3D
REFRESH-INTERVAL:P3D
CALSCALE:GREGORIAN
BEGIN:VEVENT
DTSTART:20240912T213000Z
DTEND:20240913T000000Z
X-MICROSOFT-CDO-ALLDAYEVENT:FALSE
SUMMARY:2024 Excellence in Business Awards Gala
DESCRIPTION:The Annual Gala is the biggest Bedford Chamber event of the year! Chamber members gather for an evening of fine dining\, socializing\, music\, celebration\, and the reception of our Excellence in Business Awards.\n\n\n\nFind out more by visiting the official event page\, HERE.
X-ALT-DESC;FMTTYPE=text/html:<p class="_04xlpA direction-ltr align-start para-style-body" style="text-align: center\;">The Annual Gala is the biggest Bedford Chamber event of the year! Chamber members gather for an evening of fine dining\, socializing\, music\, celebration\, and the reception of our Excellence in Business Awards.<br />\n<br />\nFind out more by visiting the official event page\, <a href="https://www.bedfordareachamber.com/2024gala/">HERE.</a></p>\n
LOCATION:Cedar Oaks Farm 4671 Forest Road\, Bedford\, VA
UID:e.1335.21232
SEQUENCE:3
DTSTAMP:20260425T184940Z
URL:https://business.bedfordareachamber.com/events/details/2024-excellence-in-business-awards-gala-21232
END:VEVENT

END:VCALENDAR
