BEGIN:VCALENDAR
VERSION:2.0
PRODID:-//ChamberMaster//Event Calendar 2.0//EN
METHOD:PUBLISH
X-PUBLISHED-TTL:P3D
REFRESH-INTERVAL:P3D
CALSCALE:GREGORIAN
BEGIN:VEVENT
DTSTART:20241114T130000Z
DTEND:20241114T143000Z
X-MICROSOFT-CDO-ALLDAYEVENT:FALSE
SUMMARY:2024 S.M.A.R.T. Marketing: Maximizing Media Buys
DESCRIPTION:Leading the S.M.A.R.T. Marketing: Maximizing Media Buys conversation is Woody Watts\, President & Creative Director of Media Squatch. \n\n\n\nLearn how to make every dollar count when developing your business's media environment!\n\n\n\nPerhaps this is your first time being able to spend money on marketing\, or perhaps you're interested in refining your strategy with a group of peers and a marketing expert. Either way\, this event is a stellar opportunity to advance your knowledge of regional media\, the buying process\, and how each marketing option "works." We'll also discuss how to build a media environment based off your brand and goals!\n\n\n\nSeats are limited! Register today.\n\n\n\n\n\nAbout S.M.A.R.T. Sessions\n\n\n\nS.M.A.R.T. (Seeking More Advancement with Resources & Topics) is a new educational series based off topics that our members requested in our annual membership survey   you talked\, we listened! Our goal is that\, by directly catering to the organizational needs of our members\, we will provide resources\, development\, and information that are impactful and relevant to the Bedford area business community as a whole.\n\n\n\nEach S.M.A.R.T. session is designed to be informative yet interactive   these are not just presentations! Each workshop will be led by an expert but driven by YOU. Bring your questions\, stories\, advice\, and pain points to share and help your peers advance together.\n\n\n\nS.M.A.R.T. sessions are free to Chamber members and only $10 to non-members.
X-ALT-DESC;FMTTYPE=text/html:<br />\n<span style="color:#000000\;">Leading the&nbsp\;<strong style="color: rgb(0\, 0\, 0)\;">S.M.A.R.T. Marketing: Maximizing Media Buys&nbsp\;</strong>conversation is Woody Watts\, President &amp\; Creative Director of&nbsp\;</span><u><a href="https://www.jgalt.io/mschmitt/"><span style="color:#0000FF\;">M</span></a><a href="https://www.mediasquatch.com/"><span style="color:#0000FF\;">edia Squatch</span></a></u><span style="color:#000000\;">.&nbsp\;<br />\n<br />\n<strong>Learn how to make every dollar count when developing your business&#39\;s media environment!</strong><br />\n<br />\nPerhaps this is your first time being able to spend money on marketing\, or perhaps you&#39\;re interested in refining your strategy with a group of peers and a marketing expert. Either way\, this event is a stellar opportunity to advance your knowledge of regional media\, the buying process\, and how each marketing option &quot\;works.&quot\; We&#39\;ll also discuss how to build a media environment based off your brand and goals!<br />\n<br />\n<strong>Seats are limited! Register today.<br />\n<br />\n<br />\n<u>About S.M.A.R.T. Sessions</u></strong><br />\n<br />\nS.M.A.R.T. (Seeking More Advancement with Resources &amp\; Topics) is a&nbsp\;new educational series based off topics that our members requested in our annual membership survey &mdash\;&nbsp\;</span><strong style="color: rgb(0\, 0\, 0)\;">you talked\, we listened</strong><span style="color: rgb(0\, 0\, 0)\;">! Our goal is that\, by directly catering to the organizational needs of our members\, we will provide resources\, development\, and information that are impactful and relevant to the Bedford area business community as a whole.</span><br />\n<br />\n<span style="color:#000000\;">Each S.M.A.R.T. session is designed to be informative yet interactive &mdash\; these are not just presentations! Each workshop will be led by an expert but driven by <strong>YOU</strong>. Bring your questions\, stories\, advice\, and pain points to share and help your peers advance together.<br />\n<br />\nS.M.A.R.T. sessions are free to Chamber members and only $10 to non-members.</span><br />\n&nbsp\;
LOCATION:Media Squatch
UID:e.1335.21464
SEQUENCE:3
DTSTAMP:20260425T144840Z
URL:https://business.bedfordareachamber.com/events/details/2024-s-m-a-r-t-marketing-maximizing-media-buys-21464
END:VEVENT

END:VCALENDAR
