BEGIN:VCALENDAR
VERSION:2.0
PRODID:-//ChamberMaster//Event Calendar 2.0//EN
METHOD:PUBLISH
X-PUBLISHED-TTL:P3D
REFRESH-INTERVAL:P3D
CALSCALE:GREGORIAN
BEGIN:VEVENT
DTSTART:20250528T123000Z
DTEND:20250528T133000Z
X-MICROSOFT-CDO-ALLDAYEVENT:FALSE
SUMMARY:2025 Forest Leads Group
DESCRIPTION:The Chamber's Forest Leads Group\n\nBuilding Trust. Growing Businesses. Strengthening Community. \n\n\n\nRead about our Leads Group HERE!
X-ALT-DESC;FMTTYPE=text/html:<span style="color: rgb(50\, 96\, 185)\; caret-color: rgb(0\, 0\, 0)\; font-size: 22px\;"><b>The Chamber&#39\;s Forest Leads Group<br />\n<span style="font-size: 18px\;">Building Trust. Growing Businesses. Strengthening Community.&nbsp\;</span></b></span><br />\n<br />\n<font size="3"><font color="#3260b9">Read about our Leads <span style="caret-color: rgb(50\, 96\, 185)\;">Group</span>&nbsp\;</font><a href="https://www.bedfordareachamber.com/leads/"><span style="color:#ff3399\;">HERE</span></a><font color="#3260b9">!</font></font>
LOCATION:
UID:e.1335.21581
SEQUENCE:3
DTSTAMP:20260424T105343Z
URL:https://business.bedfordareachamber.com/events/details/2025-forest-leads-group-05-28-2025-21581
END:VEVENT

END:VCALENDAR
