BEGIN:VCALENDAR
VERSION:2.0
PRODID:-//ChamberMaster//Event Calendar 2.0//EN
METHOD:PUBLISH
X-PUBLISHED-TTL:P3D
REFRESH-INTERVAL:P3D
CALSCALE:GREGORIAN
BEGIN:VEVENT
DTSTART:20251210T141500Z
DTEND:20251210T150000Z
X-MICROSOFT-CDO-ALLDAYEVENT:FALSE
SUMMARY:2025 Ribbon Cutting - FASTSIGNS of Forest / Lynchburg
DESCRIPTION:Join us as we celebrate 10 years of FASTSIGNS!\n\n\n\nWe're so excited to cut a ribbon for FASTSIGNS of Forest / Lynchburg as they celebrate a decade of being in business AND their brand-new facility.\n\n\n\nWhat began in 2015 as a small 1\,200-sq-ft shop with four employees has expanded to a team of 12 in a brand-new location\, tripling their space and opening the door to even greater production capabilities.\n\n\n\nCome on out on December 10 at 9:15AM for tours\, equipment demonstrations\, giveaways\, and refreshments!\n\n\n\nClick to learn more about FASTSIGNS.
X-ALT-DESC;FMTTYPE=text/html:Join us as we celebrate 10 years of FASTSIGNS!<br />\n<br />\nWe&#39\;re so excited to cut a ribbon for FASTSIGNS of Forest / Lynchburg as they celebrate a decade of being in business AND their brand-new facility.<br />\n<br />\nWhat began in 2015 as a small 1\,200-sq-ft shop with four employees has expanded to a team of 12 in a brand-new location\, tripling their space and opening the door to even greater production capabilities.<br />\n<br />\nCome on out on December 10 at 9:15AM for tours\, equipment demonstrations\, giveaways\, and refreshments!<br />\n<br />\n<a href="https://www.fastsigns.com/forest-lynchburg-va/"><strong>Click to learn more about FASTSIGNS.</strong></a>
LOCATION:
UID:e.1335.21661
SEQUENCE:3
DTSTAMP:20260423T080427Z
URL:https://business.bedfordareachamber.com/events/details/2025-ribbon-cutting-fastsigns-of-forest-lynchburg-21661
END:VEVENT

END:VCALENDAR
