BEGIN:VCALENDAR
VERSION:2.0
PRODID:-//ChamberMaster//Event Calendar 2.0//EN
METHOD:PUBLISH
X-PUBLISHED-TTL:P3D
REFRESH-INTERVAL:P3D
CALSCALE:GREGORIAN
BEGIN:VEVENT
DTSTART:20251218T051500Z
DTEND:20251218T180000Z
X-MICROSOFT-CDO-ALLDAYEVENT:FALSE
SUMMARY:2025 Ribbon Cutting - The Peacock Shoppe
DESCRIPTION:We're excited to officially welcome The Peacock Shoppe to Downtown Bedford!\n\n\n\nJoin us on Thursday\, December 18 at 12:15PM as we cut a ribbon to celebrate the opening of The Peacock Shoppe! The Peacock Shoppe is a one-of-a-kind gift shop and grab-and-go caf \, and they're excited to offer community members a place to gather and connect.\n\n\n\nTo celebrate their official opening\, The Peacock Shoppe is also running a weekly raffle for anyone who spends $10+ in-store\, starting November 19 and ending January 4.\n\n\n\nWe hope to see you there!\n\n\n\nClick to learn more about The Peacock Shoppe.
X-ALT-DESC;FMTTYPE=text/html:We&#39\;re excited to officially welcome The Peacock Shoppe to Downtown Bedford!<br />\n<br />\nJoin us on Thursday\, December 18 at 12:15PM as we cut a ribbon to celebrate the opening of The Peacock Shoppe! The Peacock Shoppe is a one-of-a-kind gift shop and grab-and-go caf&eacute\;\, and they&#39\;re excited to offer community members a place to gather and connect.<br />\n<br />\nTo celebrate their official opening\, The Peacock Shoppe is also running a weekly raffle for anyone who spends $10+ in-store\, starting November 19 and ending January 4.<br />\n<br />\nWe hope to see you there!<br />\n<br />\n<a href="https://peacock-shoppe.com/"><strong>Click to learn more about The Peacock Shoppe.</strong></a>
LOCATION:
UID:e.1335.21662
SEQUENCE:3
DTSTAMP:20260423T075530Z
URL:https://business.bedfordareachamber.com/events/details/2025-ribbon-cutting-the-peacock-shoppe-21662
END:VEVENT

END:VCALENDAR
