BEGIN:VCALENDAR
VERSION:2.0
PRODID:-//ChamberMaster//Event Calendar 2.0//EN
METHOD:PUBLISH
X-PUBLISHED-TTL:P3D
REFRESH-INTERVAL:P3D
CALSCALE:GREGORIAN
BEGIN:VEVENT
DTSTART:20260502T153000Z
DTEND:20260502T160000Z
X-MICROSOFT-CDO-ALLDAYEVENT:FALSE
SUMMARY:2026 Ribbon Cutting: Beale's
DESCRIPTION:We're excited to celebrate the grand reopening of Beale's!\n\n\n\nJoin us on Saturday\, May 2 at 11:30AM for the ribbon cutting ceremony. Beale's will officially reopen at 12PM.\n\n\n\nClick here to learn more about Beale's.
X-ALT-DESC;FMTTYPE=text/html:We&#39\;re excited to celebrate the grand reopening of Beale&#39\;s!<br />\n<br />\nJoin us on Saturday\, May 2 at 11:30AM for the ribbon cutting ceremony. Beale&#39\;s will officially reopen at 12PM.<br />\n<br />\n<strong><a href="https://www.facebook.com/bealesbeer"><span style="color:#ff3399\;">Click here to learn more about Beale&#39\;s.</span></a></strong>
LOCATION:
UID:e.1335.21692
SEQUENCE:3
DTSTAMP:20260424T225057Z
URL:https://business.bedfordareachamber.com/events/details/2026-ribbon-cutting-beale-s-21692
END:VEVENT

END:VCALENDAR
