BEGIN:VCALENDAR
VERSION:2.0
PRODID:-//ChamberMaster//Event Calendar 2.0//EN
METHOD:PUBLISH
X-PUBLISHED-TTL:P3D
REFRESH-INTERVAL:P3D
CALSCALE:GREGORIAN
BEGIN:VEVENT
DTSTART:20260509T140000Z
DTEND:20260509T200000Z
X-MICROSOFT-CDO-ALLDAYEVENT:FALSE
SUMMARY:Emerson Creek Spring Market
DESCRIPTION:Join Us for the 2026 Emerson Creek Pottery Spring Market & Pottery Outlet Sale! \n\n\n\nDate: Saturday\, May 9th\n\nTime: 10 AM - 2 PM (Vendors)\, Outlet Store open until 4pm\n\n\n\nCome out and enjoy a fun-filled day of shopping\, delicious food\, and local vendors at Emerson Creek Pottery! Here's what you can look forward to: \n\n	 Passport to Pottery Savings   Collect signatures from our vendors and unlock amazing discounts in our pottery outlet store!\n	Craft Vendors   Browse handcrafted goods from talented local artisans.\n	Food Vendors   Enjoy tasty treats from Hado's Authentic Lebanese Kitchen \n	Shop for Mother's Day   Bring your mom\, grandma\, aunts\, sisters\, and friends to find the perfect gift for the special women in your life! \n\n\n\nBring your family\, friends\, and pets for a delightful day of shopping\, savings\, food\, and springtime cheer! We can't wait to see you on May 9th!
X-ALT-DESC;FMTTYPE=text/html:<span style="font-size:20px\;"><strong>Join Us for the 2026 Emerson Creek Pottery Spring Market &amp\; Pottery Outlet Sale! </strong></span><br />\n<br />\n<span style="font-size:14px\;"><strong>Date:</strong> Saturday\, May 9th<br />\n<strong>Time:</strong> 10 AM - 2 PM (Vendors)\, Outlet Store open until 4pm<br />\n<br />\nCome out and enjoy a fun-filled day of shopping\, delicious food\, and local vendors at <a href="https://emersoncreekpottery.com/?gad_source=1&amp\;gad_campaignid=20442925399&amp\;gbraid=0AAAAAo6UkU1K35YHdS3iHXwPSFX68nqXN&amp\;gclid=CjwKCAjwwJzPBhBREiwAJfHRneYzZsOGjeu_kO9WZm82Xjzt2vFlCZoKx7BwF6ulO_6YeiObltuL-RoCtaQQAvD_BwE"><span style="color:#ff3399\;">Emerson Creek Pottery!</span></a> Here&#39\;s what you can look forward to: </span>\n<ul>\n	<li><span style="font-size:14px\;"><strong>&#8203\;Passport to Pottery Savings</strong> &ndash\; Collect signatures from our vendors and unlock amazing discounts in our pottery outlet store!</span></li>\n	<li><span style="font-size:14px\;"><strong>Craft Vendors</strong> &ndash\; Browse handcrafted goods from talented local artisans.</span></li>\n	<li><span style="font-size:14px\;"><strong>Food Vendors</strong> &ndash\; Enjoy tasty treats from Hado&#39\;s Authentic Lebanese Kitchen </span></li>\n	<li><span style="font-size:14px\;"><strong>Shop for Mother&rsquo\;s Day </strong>&ndash\; Bring your mom\, grandma\, aunts\, sisters\, and friends to find the perfect gift for the special women in your life! </span></li>\n</ul>\n<br />\n<span style="font-size:14px\;">Bring your family\, friends\, and pets for a delightful day of shopping\, savings\, food\, and springtime cheer! We can&#39\;t wait to see you on May 9th!&nbsp\;</span>
LOCATION:
UID:e.1335.21691
SEQUENCE:3
DTSTAMP:20260421T231725Z
URL:https://business.bedfordareachamber.com/events/details/emerson-creek-spring-market-21691
END:VEVENT

END:VCALENDAR
