BEGIN:VCALENDAR
VERSION:2.0
PRODID:-//ChamberMaster//Event Calendar 2.0//EN
METHOD:PUBLISH
X-PUBLISHED-TTL:P3D
REFRESH-INTERVAL:P3D
CALSCALE:GREGORIAN
BEGIN:VEVENT
DTSTART:20180426T180000Z
DTEND:20180426T190000Z
X-MICROSOFT-CDO-ALLDAYEVENT:FALSE
SUMMARY:Glaucoma 101
DESCRIPTION:Dr. Kevin Ader of Weatherholt & Associates Optometrists will speak on what glaucoma is and how it impacts seniors. Please RSVP by calling (434) 385-5102
X-ALT-DESC;FMTTYPE=text/html:Dr. Kevin Ader of Weatherholt &amp\; Associates Optometrists will speak on what glaucoma is and how it impacts seniors. Please RSVP by calling (434) 385-5102
LOCATION:201 Lynchburg\, VA 24502
UID:e.1335.18300
SEQUENCE:3
DTSTAMP:20260425T235036Z
URL:https://business.bedfordareachamber.com/events/details/glaucoma-101-18300
END:VEVENT

END:VCALENDAR
