BEGIN:VCALENDAR
VERSION:2.0
PRODID:-//ChamberMaster//Event Calendar 2.0//EN
METHOD:PUBLISH
X-PUBLISHED-TTL:P3D
REFRESH-INTERVAL:P3D
CALSCALE:GREGORIAN
BEGIN:VEVENT
DTSTART:20171031T180000Z
DTEND:20171031T200000Z
X-MICROSOFT-CDO-ALLDAYEVENT:FALSE
SUMMARY:Halloween
DESCRIPTION:Meet your local craft vendors and get a jump on your Christmas Shopping!\n\nThere will also be a pumpkin carving contest and a soup and sandwich fundraiser!
X-ALT-DESC;FMTTYPE=text/html:Meet your local craft vendors and get a jump on your Christmas Shopping!<br />\nThere will also be a pumpkin carving contest and a soup and sandwich fundraiser!
LOCATION:201 Lillian Lane Lynchburg\, VA 24502
UID:e.1335.17977
SEQUENCE:3
DTSTAMP:20260420T100558Z
URL:https://business.bedfordareachamber.com/events/details/halloween-17977
END:VEVENT

END:VCALENDAR
