BEGIN:VCALENDAR
VERSION:2.0
PRODID:-//ChamberMaster//Event Calendar 2.0//EN
METHOD:PUBLISH
X-PUBLISHED-TTL:P3D
REFRESH-INTERVAL:P3D
CALSCALE:GREGORIAN
BEGIN:VEVENT
DTSTART:20170808T170000Z
DTEND:20170808T183000Z
X-MICROSOFT-CDO-ALLDAYEVENT:FALSE
SUMMARY:Memory Care Support Group
DESCRIPTION:Various Stages of dementia& Communication Strategies: Guest Speaker is Jessica Ortler pt\,ot of Genesis Rehab. If you are caring for a spouse \,parent\, or senior loved one our support group provides participants an opportunity to discuss issues related to a family member experiencing cognitive and/or physical decline due to Alzheimer's or Dementia. Please RSVP to (434) 477-5828.
X-ALT-DESC;FMTTYPE=text/html:Various Stages of dementia&amp\; Communication Strategies: Guest Speaker is Jessica Ortler pt\,ot of Genesis Rehab. If you are caring for a spouse \,parent\, or senior loved one our support group provides participants an opportunity to discuss issues related to a family member experiencing cognitive and/or physical decline due to Alzheimer&rsquo\;s or Dementia. Please RSVP to (434) 477-5828.
LOCATION:201 Lillian Lane Lynchburg\, VA 24502
UID:e.1335.17688
SEQUENCE:3
DTSTAMP:20260419T215017Z
URL:https://business.bedfordareachamber.com/events/details/memory-care-support-group-08-08-2017-17688
END:VEVENT

END:VCALENDAR
