BEGIN:VCALENDAR
VERSION:2.0
PRODID:-//ChamberMaster//Event Calendar 2.0//EN
METHOD:PUBLISH
X-PUBLISHED-TTL:P3D
REFRESH-INTERVAL:P3D
CALSCALE:GREGORIAN
BEGIN:VEVENT
DTSTART:20171114T183000Z
DTEND:20171114T190000Z
X-MICROSOFT-CDO-ALLDAYEVENT:FALSE
SUMMARY:Memory Care Support Group
DESCRIPTION:"Positive approach to Communication" Learn more about how to positively connect with your loved one both emotionally & spiritually. A Teepa Snow Presentation. Please RSVP by calling (434) 385-5102
X-ALT-DESC;FMTTYPE=text/html:&ldquo\;Positive approach to Communication&rdquo\; Learn more about how to positively connect with your loved one both emotionally &amp\; spiritually. A Teepa Snow Presentation. Please RSVP by calling (434) 385-5102
LOCATION:201 Lillian lane Lynchburg\, VA 24502
UID:e.1335.17985
SEQUENCE:3
DTSTAMP:20260421T064959Z
URL:https://business.bedfordareachamber.com/events/details/memory-care-support-group-11-14-2017-17985
END:VEVENT

END:VCALENDAR
