BEGIN:VCALENDAR
VERSION:2.0
PRODID:-//ChamberMaster//Event Calendar 2.0//EN
METHOD:PUBLISH
X-PUBLISHED-TTL:P3D
REFRESH-INTERVAL:P3D
CALSCALE:GREGORIAN
BEGIN:VEVENT
DTSTART:20180601T190000Z
DTEND:20180601T220000Z
X-MICROSOFT-CDO-ALLDAYEVENT:FALSE
SUMMARY:Ribbon Cutting - Central Technology Systems
DESCRIPTION:Join the Bedford Area Chamber of Commerce as we celebrate new member\, Central Technology Systems.  They will have a Ribbon Cutting  at their new location:  20334 Timberlake Road on Friday\, June 1 from 3PM-6PM\n \nThe mission of  CTS is to provide new technology supported by highly trained people\, resulting in increased profitability and a competitive advantage for customers by utilizing best of class technology and services.\n \n\nThe Open House will include Connoisseur Travel (formerly Travel Bugs) and the Home Builders Association of Central Virginia.
X-ALT-DESC;FMTTYPE=text/html:Join the Bedford Area Chamber of Commerce as we celebrate new member\, <span style="color: rgb(34\, 34\, 34)\; font-family: arial\, sans-serif\; font-size: 12.8px\;">Central Technology Systems.&nbsp\; They will have a Ribbon Cutting&nbsp\; at their new location:&nbsp\;&nbsp\;</span><a href="https://maps.google.com/?q=20334+Timberlake+Road&amp\;entry=gmail&amp\;source=g" style="color: rgb(17\, 85\, 204)\; font-family: arial\, sans-serif\; font-size: 12.8px\;">20334 Timberlake Road</a><span style="color: rgb(34\, 34\, 34)\; font-family: arial\, sans-serif\; font-size: 12.8px\;">&nbsp\;on&nbsp\;</span><span class="aBn" data-term="goog_1235728723" style="border-bottom: 1px dashed rgb(204\, 204\, 204)\; position: relative\; top: -2px\; z-index: 0\; color: rgb(34\, 34\, 34)\; font-family: arial\, sans-serif\; font-size: 12.8px\;" tabindex="0"><span class="aQJ" style="position: relative\; top: 2px\; z-index: -1\;">Friday\, June 1 from 3PM-6PM</span></span>\n<div style="color: rgb(34\, 34\, 34)\; font-family: arial\, sans-serif\; font-size: 12.8px\;">&nbsp\;\n<div>The mission of&nbsp\; CTS is to provide new technology supported by highly trained people\, resulting in increased profitability and a competitive advantage for customers by utilizing best of class technology and services.\n<div>&nbsp\;</div>\n\n<div>The Open House will include Connoisseur Travel (formerly Travel Bugs) and the Home Builders Association of Central Virginia.</div>\n</div>\n</div>\n
LOCATION:20334 Timberlake Road Lynchburg\, VA 24502
UID:e.1335.18325
SEQUENCE:3
DTSTAMP:20260425T014740Z
URL:https://business.bedfordareachamber.com/events/details/ribbon-cutting-central-technology-systems-18325
END:VEVENT

END:VCALENDAR
