BEGIN:VCALENDAR
VERSION:2.0
PRODID:-//ChamberMaster//Event Calendar 2.0//EN
METHOD:PUBLISH
X-PUBLISHED-TTL:P3D
REFRESH-INTERVAL:P3D
CALSCALE:GREGORIAN
BEGIN:VEVENT
DTSTART:20180717T160000Z
DTEND:20180717T180000Z
X-MICROSOFT-CDO-ALLDAYEVENT:FALSE
SUMMARY:Ribbon Cutting - YMCA Aerial Adventure Park
DESCRIPTION:Join the Bedford Area Chamber of Commerce as we celebrate the Bedford Area Family YMCA's new Aerial Adventure Park and Team Building Course - The Aerial Adventure Park is a unique\, exciting addition to the YMCAs Outdoor\n\nAdventure Program that is the only one of its kind in the country\; designed and built specifically to meet our needs. It will be an awesome addition to the ropes course and team building experiences that the Y can offer a huge variety of groups\, businesses\, youth and adult organizations\, school teams\, and more. The Aerial Adventure Park and Team Building Course were made possible by generous grants from the Greater Lynchburg Community Foundation and the Bedford Community Health Foundation as well as with in-kind contributions from the Town of Bedford's Electric Department Team.
X-ALT-DESC;FMTTYPE=text/html:Join the Bedford Area Chamber of Commerce as we celebrate the Bedford Area Family YMCA&#39\;s&nbsp\;<span style="color: rgb(34\, 34\, 34)\; font-family: arial\, sans-serif\; font-size: 12.8px\;">new Aerial Adventure Park and Team Building Course - The Aerial&nbsp\;</span><span style="color: rgb(34\, 34\, 34)\; font-family: arial\, sans-serif\; font-size: 12.8px\;">Adventure Park is a unique\, exciting addition to the YMCAs Outdoor</span><br style="color: rgb(34\, 34\, 34)\; font-family: arial\, sans-serif\; font-size: 12.8px\;" />\n<span style="color: rgb(34\, 34\, 34)\; font-family: arial\, sans-serif\; font-size: 12.8px\;">Adventure Program that is the only one of its kind in the country\;&nbsp\;</span><span style="color: rgb(34\, 34\, 34)\; font-family: arial\, sans-serif\; font-size: 12.8px\;">designed and built specifically to meet our needs. It will be an awesome&nbsp\;</span><span style="color: rgb(34\, 34\, 34)\; font-family: arial\, sans-serif\; font-size: 12.8px\;">addition to the ropes course and team building experiences that the Y can&nbsp\;</span><span style="color: rgb(34\, 34\, 34)\; font-family: arial\, sans-serif\; font-size: 12.8px\;">offer a huge variety of groups\, businesses\, youth and adult organizations\,&nbsp\;</span><span style="color: rgb(34\, 34\, 34)\; font-family: arial\, sans-serif\; font-size: 12.8px\;">school teams\, and more. The Aerial Adventure Park and Team Building Course&nbsp\;</span><span style="color: rgb(34\, 34\, 34)\; font-family: arial\, sans-serif\; font-size: 12.8px\;">were made possible by generous grants from the Greater Lynchburg Community&nbsp\;</span><span style="color: rgb(34\, 34\, 34)\; font-family: arial\, sans-serif\; font-size: 12.8px\;">Foundation and the Bedford Community Health Foundation as well as with&nbsp\;</span><span style="color: rgb(34\, 34\, 34)\; font-family: arial\, sans-serif\; font-size: 12.8px\;">in-kind contributions from the Town of Bedford&#39\;s Electric Department Team.</span>
LOCATION:Bedford Area YMCA 1111 Turnpike Drive Bedford\, VA 24523
UID:e.1335.18346
SEQUENCE:3
DTSTAMP:20260419T144633Z
URL:https://business.bedfordareachamber.com/events/details/ribbon-cutting-ymca-aerial-adventure-park-18346
END:VEVENT

END:VCALENDAR
